BEGIN:VCALENDAR
VERSION:2.0
PRODID:-//- Title - - ECPv6.15.20//NONSGML v1.0//EN
CALSCALE:GREGORIAN
METHOD:PUBLISH
X-WR-CALNAME:- Title -
X-ORIGINAL-URL:https://testbed.mundart-rheinhessen.de
X-WR-CALDESC:Veranstaltungen für - Title -
REFRESH-INTERVAL;VALUE=DURATION:PT1H
X-Robots-Tag:noindex
X-PUBLISHED-TTL:PT1H
BEGIN:VTIMEZONE
TZID:UTC
BEGIN:STANDARD
TZOFFSETFROM:+0000
TZOFFSETTO:+0000
TZNAME:UTC
DTSTART:20250101T000000
END:STANDARD
END:VTIMEZONE
BEGIN:VEVENT
DTSTART;TZID=UTC:20260501T190000
DTEND;TZID=UTC:20260501T220000
DTSTAMP:20260422T223345
CREATED:20260421T115852Z
LAST-MODIFIED:20260421T115852Z
UID:118-1777662000-1777672800@testbed.mundart-rheinhessen.de
SUMMARY:Ufftritt 1
DESCRIPTION:
URL:https://testbed.mundart-rheinhessen.de/event/ufftritt-1/
LOCATION:Weingut Berkes\, Dalheimer Straße 9\, Weinolsheim\, 55278
CATEGORIES:"Worte un Woi"
ATTACH;FMTTYPE=image/png:https://testbed.mundart-rheinhessen.de/wp-content/uploads/2026/04/cropped-Mundart-logo-1.png
ORGANIZER;CN="mundart-rheinhessen.de":MAILTO:poschd@mundart-rheinhessen.de
END:VEVENT
BEGIN:VEVENT
DTSTART;TZID=UTC:20260501T190000
DTEND;TZID=UTC:20260501T220000
DTSTAMP:20260422T223345
CREATED:20260421T165422Z
LAST-MODIFIED:20260421T165422Z
UID:126-1777662000-1777672800@testbed.mundart-rheinhessen.de
SUMMARY:Ufftritt 4
DESCRIPTION:
URL:https://testbed.mundart-rheinhessen.de/event/ufftritt-1-4/
LOCATION:Weingut Berkes\, Dalheimer Straße 9\, Weinolsheim\, 55278
CATEGORIES:"Worte un Woi"
ATTACH;FMTTYPE=image/png:https://testbed.mundart-rheinhessen.de/wp-content/uploads/2026/04/cropped-Mundart-logo-1.png
ORGANIZER;CN="mundart-rheinhessen.de":MAILTO:poschd@mundart-rheinhessen.de
END:VEVENT
BEGIN:VEVENT
DTSTART;TZID=UTC:20260524T190000
DTEND;TZID=UTC:20260524T220000
DTSTAMP:20260422T223345
CREATED:20260421T165422Z
LAST-MODIFIED:20260421T165422Z
UID:127-1779649200-1779660000@testbed.mundart-rheinhessen.de
SUMMARY:Ufftritt 3
DESCRIPTION:
URL:https://testbed.mundart-rheinhessen.de/event/ufftritt-1-3/
LOCATION:Weingut Berkes\, Dalheimer Straße 9\, Weinolsheim\, 55278
CATEGORIES:"Worte un Woi"
ATTACH;FMTTYPE=image/png:https://testbed.mundart-rheinhessen.de/wp-content/uploads/2026/04/cropped-Mundart-logo-1.png
ORGANIZER;CN="mundart-rheinhessen.de":MAILTO:poschd@mundart-rheinhessen.de
END:VEVENT
BEGIN:VEVENT
DTSTART;TZID=UTC:20260527T190000
DTEND;TZID=UTC:20260527T220000
DTSTAMP:20260422T223345
CREATED:20260421T165422Z
LAST-MODIFIED:20260421T165422Z
UID:128-1779908400-1779919200@testbed.mundart-rheinhessen.de
SUMMARY:Ufftritt 2
DESCRIPTION:
URL:https://testbed.mundart-rheinhessen.de/event/ufftritt-1-2/
LOCATION:Weingut Berkes\, Dalheimer Straße 9\, Weinolsheim\, 55278
CATEGORIES:"Worte un Woi"
ATTACH;FMTTYPE=image/png:https://testbed.mundart-rheinhessen.de/wp-content/uploads/2026/04/cropped-Mundart-logo-1.png
ORGANIZER;CN="mundart-rheinhessen.de":MAILTO:poschd@mundart-rheinhessen.de
END:VEVENT
END:VCALENDAR